BEGIN:VCALENDAR
VERSION:2.0
PRODID:-//LUXEMBOURG FRIENDS - ECPv4.6.19//NONSGML v1.0//EN
CALSCALE:GREGORIAN
METHOD:PUBLISH
X-WR-CALNAME:LUXEMBOURG FRIENDS
X-ORIGINAL-URL:http://www.luxembourgclub.co.uk
X-WR-CALDESC:Events for LUXEMBOURG FRIENDS
BEGIN:VEVENT
DTSTART;VALUE=DATE:20180714
DTEND;VALUE=DATE:20180715
DTSTAMP:20180703T081326
CREATED:20180529T114624Z
LAST-MODIFIED:20180530T093436Z
UID:3000-1531526400-1531612799@www.luxembourgclub.co.uk
SUMMARY:Barnes Fair 2018
DESCRIPTION:Organised by the Barnes Community Association\, this is the largest community fundraising event in the Borough of Richmond-on-Thames. \nIt is now in its 44th year and features 300 stalls\, live music\, a children’s funfair\, a grand parade\, an events stage\, and more. \nThis year’s event has a French theme as it coincides with Bastille Day. \nOn Barnes Green\, London SW13 0DQ. \nFurther information \nBarnes Village website \nPicture © Tim Bulmer \n
URL:http://www.luxembourgclub.co.uk/event/barnes-fair-2018/
LOCATION:London\, SW13 0DQ\, United Kingdom
ATTACH;FMTTYPE=image/jpeg:http://www.luxembourgclub.co.uk/wp-content/uploads/2018/05/barnes-fair-18.jpg
END:VEVENT
END:VCALENDAR