BEGIN:VCALENDAR
VERSION:2.0
PRODID:-//LUXEMBOURG FRIENDS - ECPv4.6.19//NONSGML v1.0//EN
CALSCALE:GREGORIAN
METHOD:PUBLISH
X-WR-CALNAME:LUXEMBOURG FRIENDS
X-ORIGINAL-URL:http://www.luxembourgclub.co.uk
X-WR-CALDESC:Events for LUXEMBOURG FRIENDS
BEGIN:VEVENT
DTSTART;TZID=Europe/London:20180710T190000
DTEND;TZID=Europe/London:20180710T230000
DTSTAMP:20180703T081235
CREATED:20180520T141108Z
LAST-MODIFIED:20180629T205847Z
UID:2907-1531249200-1531263600@www.luxembourgclub.co.uk
SUMMARY:July 2018 Pub Night
DESCRIPTION:\nJoin us at our regular monthly pub night\, which is due to take place at the Liberty Bounds Public House\, 15 Trinity Square\, Tower Hill\, London EC3N 4AA. \nThis event is open to everyone\, and there is no need to book. Just come along on the night – we’ll be there till late. To find us\, look out for the Luxembourg national flag on our table! \nTuesday is Steak Night at the Liberty Bounds\, so you can order a steak and chips\, including a drink\, for under ten pounds. Other dishes are available. \nFor more information about the Luxembourg Friends\, or to join our email list\, please fill out the form on our welcome page. \n> The pub events \n\n+ Google Calendar+ iCal Export\n
URL:http://www.luxembourgclub.co.uk/event/july-2018-pub-night/
LOCATION:15 Trinity Square\, London\, London\, EC3N 4AA\, United Kingdom
ATTACH;FMTTYPE=image/jpeg:http://www.luxembourgclub.co.uk/wp-content/uploads/2018/05/neptune.jpg
END:VEVENT
END:VCALENDAR