BEGIN:VCALENDAR
VERSION:2.0
PRODID:-//LUXEMBOURG FRIENDS - ECPv4.6.19//NONSGML v1.0//EN
CALSCALE:GREGORIAN
METHOD:PUBLISH
X-WR-CALNAME:LUXEMBOURG FRIENDS
X-ORIGINAL-URL:http://www.luxembourgclub.co.uk
X-WR-CALDESC:Events for LUXEMBOURG FRIENDS
BEGIN:VEVENT
DTSTART;TZID=Europe/London:20180717T131500
DTEND;TZID=Europe/London:20180717T140000
DTSTAMP:20180703T081354
CREATED:20180627T161354Z
LAST-MODIFIED:20180627T161354Z
UID:3100-1531833300-1531836000@www.luxembourgclub.co.uk
SUMMARY:Pictures at an Exhibition
DESCRIPTION:Recital by the Galliard Trio at St Mary at Hill\nOver the past thirty-six years\, the Galliard Trio has established a reputation for presenting pieces drawn from a wide repertoire\, which includes music from the eighteenth to the twentieth centuries. \nThe members live within a short distance of each other in North London\, and perform regularly throughout southern England\, in churches\, arts centres\, country houses and schools. \nTHE GALLIARD TRIO \nAndrew Morris – flute and piccolo \nMartin White – cor anglais \nAlec Forshaw – piano \nPROGRAMME \nM. Mussorgsky – Pictures at an Exhibition \nPromenade \nGnomus (the gnome) \nPromenade \nThe old castle \nPromenade \nTuileries \nBydlo (oxen) \nPromenade \nBallet of the unhatched chicks \nSamuel Goldenberg and Schmuÿle \nPromenade \nLimoges Market \nCatacomb \nPromenade – Con mortuis in lingua mortua \nThe Hut of Baba Yaga \nThe Great Gate of Kiev \nFree  \nSt Mary-at-Hill Church is at Lovat Lane\, London EC3R 8EE \nFurther details \nSt Mary-at-Hill events \nThe Square Mile Music Series \n
URL:http://www.luxembourgclub.co.uk/event/pictures-at-an-exhibition/
LOCATION:Lovat Lane\, London\, EC3R 8EE\, United Kingdom
ATTACH;FMTTYPE=image/jpeg:http://www.luxembourgclub.co.uk/wp-content/uploads/2018/06/st_mary_at_hill_clock.jpg
END:VEVENT
END:VCALENDAR