BEGIN:VCALENDAR
VERSION:2.0
PRODID:-//LUXEMBOURG FRIENDS - ECPv4.6.19//NONSGML v1.0//EN
CALSCALE:GREGORIAN
METHOD:PUBLISH
X-WR-CALNAME:LUXEMBOURG FRIENDS
X-ORIGINAL-URL:http://www.luxembourgclub.co.uk
X-WR-CALDESC:Events for LUXEMBOURG FRIENDS
BEGIN:VEVENT
DTSTART;TZID=Europe/London:20180703T183000
DTEND;TZID=Europe/London:20180703T210000
DTSTAMP:20180703T081056
CREATED:20180525T140736Z
LAST-MODIFIED:20180530T093119Z
UID:2976-1530642600-1530651600@www.luxembourgclub.co.uk
SUMMARY:Roman Dead
DESCRIPTION:Panel discussion on Roman burials\, funerals and rites\nInspired by the Roman Dead exhibition\, this panel discussion examines the traditions and rites surrounding death during Roman times\, followed by a Q&A session. \nWith Dr. John Pearce\, Senior Lecturer in Archaeology at King’s College London and an expert on Roman funerals\, Dr. Valerie Hope\, Senior Lecturer and Head of Classical Studies at the Open University\, with research focusing on mourning and grief in Roman times and Prof. Tim Thompson\, Associated Dean and Professor of Applied Biological Anthropology in the School of Science & Engineering at Teesside University\, with key areas of work on cremation processes and forensics. \nThe lecture is chaired by Dr. Rebecca Redfern\, Curator of Human Osteology at the Museum of London\, and is followed by an hour to explore the Roman Dead exhibition. \nAdvance tickets 12.00 / various concessions \nRoman Dead is a major exhibition at the Museum of London Docklands. \nLast year\, a Roman sarcophagus was found near to Harper Road in Southwark\, and a group of archaeologists began working immediately to reveal its secrets. It is going on public display for the first time\, alongside the skeletons and cremated remains of 28 Roman Londoners found during archaeological excavations of ancient cemeteries. \nThe exhibition also features objects from burials in Roman London\, exploring how people dealt with death in Londinium. Objects on display include tombstones\, jewellery and cremation urns of varying shapes and sizes. The charred remains of food and vessels that may have contained drinks help to shed light on how Roman Londoners prepared their friends and family for their journey into the afterlife. \nThe exhibition runs from 25th May to 28th October 2018 \nFurther information \nMuseum of London Docklands \nPicture © Museum of London \n
URL:http://www.luxembourgclub.co.uk/event/roman-dead/
LOCATION:No 1 Warehouse\, West India Quay\, London\, E14 4AL\, United Kingdom
ATTACH;FMTTYPE=image/jpeg:http://www.luxembourgclub.co.uk/wp-content/uploads/2018/05/jet-medusa-pendant.jpg
END:VEVENT
END:VCALENDAR